BEGIN:VCALENDAR
VERSION:2.0
METHOD:PUBLISH
BEGIN:VEVENT
DTSTART:20260501T200000Z
LOCATION:Graf-Zeppelin-Haus Friedrichshafen
TRANSP: OPAQUE
SEQUENCE:0
UID:
DTSTAMP:20260421T125315Z
SUMMARY:Show – Helge Schneider: Ein Mann und seine Musik
DESCRIPTION:Helge Schneider – Tournee 2026Ein Mann und seine MusikHelge Schneider, der Superstar aus dem Ruhrpott, geht wieder auf Tournee – und das mit richtigem Spaß am Reisen! &#8222;Ja, ich sehe mir alles genau an. Die Autobahn ist mein Zuhause (im Wagen vor mir fährt ein schönes Mädchen… dadammtedammtamtam…)&#8220;, scherzt er. Doch dieses Mal kommt Helge Schneider nicht nur auf die Straßen, sondern direkt in Deine Stadt – bereit, sein Publikum mit Musik und Humor zu begeistern.Ich suche immer Kontakt zu meinem Publikum, und zwar durch Musik. Auch sollen sie lachen. Wenn nicht, auch egal. Ich für meinen Teil finde vieles [&hellip;]
PRIORITY:1
CLASS:PUBLIC
BEGIN:VALARM
TRIGGER:-PT10080M
ACTION:DISPLAY
DESCRIPTION:Reminder
END:VALARM
END:VEVENT
END:VCALENDAR
