BEGIN:VCALENDAR
VERSION:2.0
METHOD:PUBLISH
BEGIN:VEVENT
DTSTART:20260501T110000Z
LOCATION:Beim Kinderspielplatz Laimnau
TRANSP: OPAQUE
SEQUENCE:0
UID:
DTSTAMP:20260421T112538Z
SUMMARY:Maifest mit Flohmarkt
DESCRIPTION:Am 1. Mai ist es wieder soweitDas Maifest mit großem Flohmark, in Laimnau, steht wieder auf dem Programm.Das perfekte Ausflugsziel für die ganze Familie am 1. Mai. Ideal gelegen an der Argen.Die Kinder können sich auf dem Spielplatz austoben, die Erwachsenen schlendern über den noch größeren Flohmarkt und alle lassen sich verwöhnen von den Angeboten der Bürgerwehr Laimnau. Für die musikalische Unterhaltung und Stimmung sorgt der Musikverein Laimnau e.V. zum Frühschoppen.Bei schlechter Witterung wird die Veranstaltung rechtzeitig abgesagt. Infos dazu über Instagram, Facebook und der Homepage Laimnau- Aktiv
PRIORITY:1
CLASS:PUBLIC
BEGIN:VALARM
TRIGGER:-PT10080M
ACTION:DISPLAY
DESCRIPTION:Reminder
END:VALARM
END:VEVENT
END:VCALENDAR
