BEGIN:VCALENDAR
VERSION:2.0
METHOD:PUBLISH
BEGIN:VEVENT
DTSTART:20260501T120000Z
LOCATION:SCHUSSENRIEDER Brauereigaststätte
TRANSP: OPAQUE
SEQUENCE:0
UID:
DTSTAMP:20260421T112350Z
SUMMARY:Biergarten–Opening mit „GET BACK“
DESCRIPTION:Die drei Musiker haben sich komplett der englischsprachigen Musik der 60er Jahre verschrieben. Neben den Beatles, Rolling Stones, Kinks oder den Who finden sich Stücke von amerikanischen Bands wie den Beach Boys oder den Monkees. Auch Werke der Flower-Power Zeit wie von den Doors oder Cream haben einen Platz im großen Repertoire. In minimaler 3er Besetzung (Gitarre, Bass/Keyboard und Schlagzeug) liegt das musikalische Hauptaugenmerk auf dem mehrstimmigen Gesang, der den Sound vieler Bands jeder Epoche prägte. Die Veranstaltung findet bei schönem Wetter im Biergarten statt und bei Regenwetter in der Gaststätte! Machen Sie mit bei der Biergartengaudi und genießen Sie [&hellip;]
PRIORITY:1
CLASS:PUBLIC
BEGIN:VALARM
TRIGGER:-PT10080M
ACTION:DISPLAY
DESCRIPTION:Reminder
END:VALARM
END:VEVENT
END:VCALENDAR
