BEGIN:VCALENDAR
VERSION:2.0
METHOD:PUBLISH
BEGIN:VEVENT
DTSTART:20260430T200000Z
LOCATION:Stadttheater Kaufbeuren
TRANSP: OPAQUE
SEQUENCE:0
UID:
DTSTAMP:20260422T033816Z
SUMMARY:Theater: Über Menschen
DESCRIPTION:Beleuchtet eine kapitalistische Gesellschaftskritik: eine konfliktreiche Familie wird von Macht, Kontrolle und Überwachung herausgefordert. Ethik vs. Profit, Privatsphäre vs. Öffentlichkeit, Loyalität vs. Eigennutz spielen in einem packenden Familiendrama eine zentrale Rolle. Spannend, aktuell.Ansprechpartner: KulturringVeranstalter: Kulturring KaufbeurenE-Mail-Adresse: kulturring@kaufbeuren.demehr Infos unter: Infos und Online Ticketverkauf
PRIORITY:1
CLASS:PUBLIC
BEGIN:VALARM
TRIGGER:-PT10080M
ACTION:DISPLAY
DESCRIPTION:Reminder
END:VALARM
END:VEVENT
END:VCALENDAR
