BEGIN:VCALENDAR
VERSION:2.0
METHOD:PUBLISH
BEGIN:VEVENT
DTSTART:20260501T100000Z
LOCATION:Feuerwehrhaus Kleinkemnat
TRANSP: OPAQUE
SEQUENCE:0
UID:
DTSTAMP:20260421T112358Z
SUMMARY:Maibaumfest Kleinkemnat
DESCRIPTION:Kleinkemnat feiert seinen Maibaum nach dem Festgottesdienst bei einem gemütlichen Frühschoppen am Feuerwehrhaus mit den Kemnater Musikanten, Auftanz und Spielen. Für das leibliche Wohl ist gesorgt.Die Ortsdurchfahrt über den Ölmühlhang wird ganztägig von 8.00-18.00 Uhr gesperrt. Die Ortsdurchfahrt aus Richtung Großkemnat bleibt offen; eine Umleitung nach Irsee wird eingerichtet.Ansprechpartner: Verein für Gartenbau und Landschaftspflege KleinkemnatVeranstalter: Verein für Gartenbau und Landschaftspflege Kleinkemnat e.V.
PRIORITY:1
CLASS:PUBLIC
BEGIN:VALARM
TRIGGER:-PT10080M
ACTION:DISPLAY
DESCRIPTION:Reminder
END:VALARM
END:VEVENT
END:VCALENDAR
