BEGIN:VCALENDAR
VERSION:2.0
METHOD:PUBLISH
BEGIN:VEVENT
DTSTART:20260501T150000Z
LOCATION:Fußballplatz Riedstadion SV Markelfingen 1925 e. V.
TRANSP: OPAQUE
SEQUENCE:0
UID:
DTSTAMP:20260421T112542Z
SUMMARY:1. Mai-Hock im Riedstadion
DESCRIPTION:Ab 11 Uhr werden alle Radfahrer, Wanderer &amp; sonstige Besucher neben Steak, Grillwurst &amp; Pommes auch mit diversen Kaltgetränken zur Stärkung für die 1. Mai-Tour verköstigt.Der SV Markelfingen freut sich auf einen schönen &#8222;Tag der Arbeit&#8220; in lockerer Atmosphäre!
PRIORITY:1
CLASS:PUBLIC
BEGIN:VALARM
TRIGGER:-PT10080M
ACTION:DISPLAY
DESCRIPTION:Reminder
END:VALARM
END:VEVENT
END:VCALENDAR
