BEGIN:VCALENDAR
VERSION:2.0
METHOD:PUBLISH
BEGIN:VEVENT
DTSTART:20260502T080000Z
LOCATION:Viehmarktplatz Immenstadt
TRANSP: OPAQUE
SEQUENCE:0
UID:
DTSTAMP:20260421T125427Z
SUMMARY:Floh- und Trödelspaß
DESCRIPTION:Bei gutem Wetter wird es sicher wieder ein großer Markt und so kommt sicherlich jeder Sammler auf seine Kosten. So gibt es für Antiquitätenfreunde beispielsweise Möbel und Uhren, Porzellan, Schmuck und Puppen.Abgerundet wird das Angebot von nützlichen Alt- und Gebrauchtwaren, wie sie nur auf dem Flohmarkt zu finden sind. Die Chancen stehen gut, dass man hier ein lang gesuchtes Stück entdeckt oder ein Schnäppchen macht, an dem man lange seine Freude haben wird. Die Händler beraten interessierte Besucher gerne und geben Tipps, beispielsweise zum Thema Restauration.Der Besuch des Marktes lohnt sich täglich, denn einige Aussteller haben nur für einen Tag [&hellip;]
PRIORITY:1
CLASS:PUBLIC
BEGIN:VALARM
TRIGGER:-PT10080M
ACTION:DISPLAY
DESCRIPTION:Reminder
END:VALARM
END:VEVENT
END:VCALENDAR
