BEGIN:VCALENDAR
VERSION:2.0
METHOD:PUBLISH
BEGIN:VEVENT
DTSTART:20260430T200000Z
LOCATION:Haus Hopfensee Füssen
TRANSP: OPAQUE
SEQUENCE:0
UID:
DTSTAMP:20260422T022248Z
SUMMARY:Konzert der Musikkapelle Hopfen am See e.V.
DESCRIPTION:Frühjahrskonzert. Eintritt frei!
PRIORITY:1
CLASS:PUBLIC
BEGIN:VALARM
TRIGGER:-PT10080M
ACTION:DISPLAY
DESCRIPTION:Reminder
END:VALARM
END:VEVENT
END:VCALENDAR
