BEGIN:VCALENDAR
VERSION:2.0
METHOD:PUBLISH
BEGIN:VEVENT
DTSTART:20260501T103000Z
LOCATION:Kloster Sießen Bad Saulgau
TRANSP: OPAQUE
SEQUENCE:0
UID:
DTSTAMP:20260421T112447Z
SUMMARY:Kinder Franziskusfest
DESCRIPTION:Das Kinderfranziskusfest lädt Familien, insbesondere Kinder, in das Kloster Sießen ein. Die Besucher erwarten verschiedene Spielstationen, kreative Mitmachaktionen und einen kreativen Abschlussgottesdienst, sowie Szenen aus dem Leben de Hl. Franziskus
PRIORITY:1
CLASS:PUBLIC
BEGIN:VALARM
TRIGGER:-PT10080M
ACTION:DISPLAY
DESCRIPTION:Reminder
END:VALARM
END:VEVENT
END:VCALENDAR
