BEGIN:VCALENDAR
VERSION:2.0
METHOD:PUBLISH
BEGIN:VEVENT
DTSTART:20260510T170000Z
LOCATION:Stadtpfarrkirche St. Johannes Bad Saulgau
TRANSP: OPAQUE
SEQUENCE:0
UID:
DTSTAMP:20260421T194218Z
SUMMARY:Orgelkonzert zum Muttertag
DESCRIPTION:J.S. Bach und romantischeOrgelmusik aus FrankreichProf. Daniel Maurer (Strasbourg) spielt Orgelwerke von J.S. Bach (u.a. Toccata und Fuge d-Moll, BWV 565, Präludium und Fuge G-Dur, BWV 541) sowie romantische Orgelmusik aus Frankreich von L. Vierne (Berceuse), Cl. Debussy (Clair de Lune), Ch.-M. Widor (Intermezzo und Allegro aus Sinfonie Nr.6) und eine Improvisation über ein MarienliedEintritt frei, Spende
PRIORITY:1
CLASS:PUBLIC
BEGIN:VALARM
TRIGGER:-PT10080M
ACTION:DISPLAY
DESCRIPTION:Reminder
END:VALARM
END:VEVENT
END:VCALENDAR
