BEGIN:VCALENDAR
VERSION:2.0
METHOD:PUBLISH
BEGIN:VEVENT
DTSTART:20260501T100000Z
LOCATION:vor der Festhalle Leutkirch
TRANSP: OPAQUE
SEQUENCE:0
UID:
DTSTAMP:20260421T112426Z
SUMMARY:Maibaumstellen in Leutkirch
DESCRIPTION:traditionelles Aufstellen des Maibaumsfür das leibliche Wohl sorgt die Guggenmusik Wuchzenhofen e.V. mit erfrischenden Getränken, Pommes und Grillwurst oder Kaffee und Muffinszünftige Musik mit den „Langdingers“Angebote für Kinderperfekte Einstimmung für alle, die danach noch zur „Maientour“ aufbrechen wollen
PRIORITY:1
CLASS:PUBLIC
BEGIN:VALARM
TRIGGER:-PT10080M
ACTION:DISPLAY
DESCRIPTION:Reminder
END:VALARM
END:VEVENT
END:VCALENDAR
