BEGIN:VCALENDAR
VERSION:2.0
METHOD:PUBLISH
BEGIN:VEVENT
DTSTART:20260501T110000Z
LOCATION:Ellerazhofer Weiher Leutkirch
TRANSP: OPAQUE
SEQUENCE:0
UID:
DTSTAMP:20260421T112540Z
SUMMARY:100 Jahre Segeln beim MVW
DESCRIPTION:Tag der offenen Tür mit tollem Familienprogramm, Schnuppersegeln, Vorführungen, Gewinnspiel und Bewirtung. Vereinsgelände Ellerazhofer Weiher.
PRIORITY:1
CLASS:PUBLIC
BEGIN:VALARM
TRIGGER:-PT10080M
ACTION:DISPLAY
DESCRIPTION:Reminder
END:VALARM
END:VEVENT
END:VCALENDAR
