BEGIN:VCALENDAR
VERSION:2.0
METHOD:PUBLISH
BEGIN:VEVENT
DTSTART:20260425T200000Z
LOCATION:Am Strandbadparkplatz
TRANSP: OPAQUE
SEQUENCE:0
UID:
DTSTAMP:20260423T224132Z
SUMMARY:Blütenfest Kressbronn
DESCRIPTION:Donnerstag, 23.04.2026 ab 18.00 UhrFeierabendhockFreitag, 24.04.2026 ab 20.00 UhrBlütenbeatzSamstag, 25.04.2026 ab 20.00 UhrPopnachtSonntag, 26.04.2026 ab 10.30 UhrFrühschoppen
PRIORITY:1
CLASS:PUBLIC
BEGIN:VALARM
TRIGGER:-PT10080M
ACTION:DISPLAY
DESCRIPTION:Reminder
END:VALARM
END:VEVENT
END:VCALENDAR
