BEGIN:VCALENDAR
VERSION:2.0
METHOD:PUBLISH
BEGIN:VEVENT
DTSTART:20260424T190000Z
LOCATION:Gewerbegebiet
TRANSP: OPAQUE
SEQUENCE:0
UID:
DTSTAMP:20260422T022157Z
SUMMARY:go to GÖ: Blasmusik-Party der Extraklasse &#8211; In Tracht!
DESCRIPTION:Das neue Format: „In Tracht“ bringt beim go to GÖ-Festival pure Blasmusik-Power, Fantasie und Partystimmung auf die Bühne. Mit dabei sind die Kultkapelle Josef Menzl, die Tegernseer Tanzlmusi, die energiegeladene Saustoimusi, die Musikatzen, sowie Viehweid 6. Sie sorgen gemeinsam für traditionelle Klänge, urbayrische Stimmung und ein Finale voller Eskalation. Also: Tracht raus und bereit für einen unvergesslichen Blasmusik-Partyabend!ab 19.00 Uhr doors open19:30 &#8211; 20:00 Uhr warm up DJ20:00 &#8211; 21:00 Uhr Tegernseer Tanzlmusi21:15 &#8211; 22:15 Uhr Viehweid 622:30 &#8211; 23:45 Uhr Kapelle Josef Menzl00:00 &#8211; 01:00 Uhr Musikatzen01:15 &#8211; 02:45 Uhr Saustoimusi
PRIORITY:1
CLASS:PUBLIC
BEGIN:VALARM
TRIGGER:-PT10080M
ACTION:DISPLAY
DESCRIPTION:Reminder
END:VALARM
END:VEVENT
END:VCALENDAR
