BEGIN:VCALENDAR
VERSION:2.0
METHOD:PUBLISH
BEGIN:VEVENT
DTSTART:20260425T193000Z
LOCATION:Gewerbegebiet
TRANSP: OPAQUE
SEQUENCE:0
UID:
DTSTAMP:20260422T022157Z
SUMMARY:go to GÖ: GRENZENLOS – Die Party, die alle Grenzen sprengt
DESCRIPTION:Wenn Grenzenlos startet, bebt das Festival: Die 102 Boyz sorgen mit ihrer ungebändigten Energie für absoluten Abriss, während Die Atzen mit Kult-Hymnen den Partymodus auf ein neues Level katapultieren. Lostboi Lino bringt Trap-Emotionen, Oswald modernen Sound, 2 Engel &amp; Charlie elektrisierende Club-Vibes und Speckdrum treibende Beats – zusammen entfacht dieses Line-up eine urbane Soundexplosion ohne Grenzen. So wird der Abend zu einem wilden Mix aus Bass, Freiheit und purem Abriss – größer, lauter, grenzenlos.ab 19:00 Uhr doors open19:30 &#8211; 20:00 Uhr warm up DJ20:00 &#8211; 21:30 Uhr Speckdrum21:40 &#8211; 22:30 Uhr Lostboi Lino22:45 &#8211;  00:15 Uhr 102 Boyz00:20 &#8211; 01:20 Uhr Oswald01:20 &#8211; 02:05 Uhr Die Atzen02:05 &#8211; 03:15 Uhr 2 Engel [&hellip;]
PRIORITY:1
CLASS:PUBLIC
BEGIN:VALARM
TRIGGER:-PT10080M
ACTION:DISPLAY
DESCRIPTION:Reminder
END:VALARM
END:VEVENT
END:VCALENDAR
