BEGIN:VCALENDAR
VERSION:2.0
METHOD:PUBLISH
BEGIN:VEVENT
DTSTART:20260502T190000Z
LOCATION:Gewerbegebiet
TRANSP: OPAQUE
SEQUENCE:0
UID:
DTSTAMP:20260421T141812Z
SUMMARY:go to GÖ: MALLORCA 7.0 – Malle-Feeling pur &#8211; die fetteste Party des Jahres!
DESCRIPTION:Sangria, Strohhüte und Sonnenbrillen raus – Mallorca 7.0 holt den Ballermann direkt nach Gö! Hier heißt es: feiern bis zum Umfallen, singen bis die Stimme versagt und tanzen, als gäb’s kein Morgen. Mit Mia Julia als Königin der Mallorca-Power, Julian Sommer und Ikke Hüftgold als absolute Stimmungsgaranten, sowie mit Frenzy, Rumbombe, Calvin Kleinen, Almklausi, den Lamas und Felix Harrer, liefert das Line-up eine unvergleichliche Mischung aus Hits, Eskalation und purer Feierlaune.Ob Abriss-Party, Mitsing-Momente oder Finale im Ausnahmezustand – dieser Abend schreit:Wie Malle, nur besser! Mallorca 7.0 bei go to GÖ – wo der Partysommer schon im Mai beginnt!ab 19:00 Uhr doors open19:00 &#8211; 19:45 Uhr warm up DJ19:45 &#8211; 21:15 Uhr Lamas21:20 &#8211; 21:50 [&hellip;]
PRIORITY:1
CLASS:PUBLIC
BEGIN:VALARM
TRIGGER:-PT10080M
ACTION:DISPLAY
DESCRIPTION:Reminder
END:VALARM
END:VEVENT
END:VCALENDAR
