BEGIN:VCALENDAR
VERSION:2.0
METHOD:PUBLISH
BEGIN:VEVENT
DTSTART:20260719T164700Z
LOCATION:Innenstadt Friedrichshafen
TRANSP: OPAQUE
SEQUENCE:0
UID:
DTSTAMP:20260421T141650Z
SUMMARY:76. Seehasenfest 2026
DESCRIPTION:Das Seehasenfest ist ein traditionelles Stadt- und Kinderfest mit über 70 Jahren Geschichte. Es verbindet Brauchtum, Unterhaltung und Sommerfeeling direkt am Bodensee.Der „Seehas“ (eine symbolische Figur aus dem Bodensee) steht im Mittelpunkt des Festes und taucht bei vielen Programmpunkten auf.
PRIORITY:1
CLASS:PUBLIC
BEGIN:VALARM
TRIGGER:-PT10080M
ACTION:DISPLAY
DESCRIPTION:Reminder
END:VALARM
END:VEVENT
END:VCALENDAR
