BEGIN:VCALENDAR
VERSION:2.0
METHOD:PUBLISH
BEGIN:VEVENT
DTSTART:20260508T200000Z
LOCATION:Kellerbühne PODIUM Kaufbeuren
TRANSP: OPAQUE
SEQUENCE:0
UID:
DTSTAMP:20260419T155532Z
SUMMARY:Max Beier
DESCRIPTION:Wenn die Welt kopfsteht, braucht es jemanden, der sie wieder geraderückt &#8211; mit Herz, Hirn und Humor. Dieser Jemand heißt Max Beier. Der preisgekrönte Kabarettist und Schauspieler fegt mit seinem Solo-Programm &#8222;LOVE&amp;ORDER&#8220; über die Bühne wie ein Wirbelwind.Was dabei herauskommt? Ein Abend voller Energie, Pointen und überraschender Wendungen. Max Beier jongliert mit Worten wie andere mit Bällen, schlüpft blitzschnell in Rollen, singt, spielt, erzählt – und reißt sein Publikum mit einer Mischung aus Stand-up, Musik, Sprachakrobatik und gesellschaftlicher Satire von den Sitzen. Ob globale Beziehungskrisen, erotische Stellungskriege oder Koalitionsverhandlungen im Schlafzimmer: Alles landet bei ihm im humorvollen Verhörsaal – LOVE&amp;ORDER. [&hellip;]
PRIORITY:1
CLASS:PUBLIC
BEGIN:VALARM
TRIGGER:-PT10080M
ACTION:DISPLAY
DESCRIPTION:Reminder
END:VALARM
END:VEVENT
END:VCALENDAR
