BEGIN:VCALENDAR
VERSION:2.0
METHOD:PUBLISH
BEGIN:VEVENT
DTSTART:20260508T190000Z
LOCATION:Stadtsaal Kaufbeuren
TRANSP: OPAQUE
SEQUENCE:0
UID:
DTSTAMP:20260419T160218Z
SUMMARY:Orchesterkonzert der Musikschule
DESCRIPTION:Frühjahrskonzert der großen Musikgruppen der Sing und Musikschule.Ansprechpartner: Info: Ludwig Hahn Sing- und Musikschule, Tel. 08341 437 290Veranstalter: Stadt Kaufbeuren / Ludwig Hahn Sing- und MusikschuleE-Mail-Adresse: martin.klein@kaufbeuren.de
PRIORITY:1
CLASS:PUBLIC
BEGIN:VALARM
TRIGGER:-PT10080M
ACTION:DISPLAY
DESCRIPTION:Reminder
END:VALARM
END:VEVENT
END:VCALENDAR
