BEGIN:VCALENDAR
VERSION:2.0
METHOD:PUBLISH
BEGIN:VEVENT
DTSTART:20260510T110000Z
LOCATION:Innenstadt Kaufbeuren
TRANSP: OPAQUE
SEQUENCE:0
UID:
DTSTAMP:20260419T160127Z
SUMMARY:Künstlermarkt mit verkaufsoffenem Sonntag
DESCRIPTION:Frühling liegt in der Luft &#8211; Also auf in die Kaufbeurer Altstadt! Hier warten Kunsthandwerker mit ihren wunderbaren Kreationen auf die Besucher. Zusätzlich öffnen die Kaufbeurer Einzelhändler ihre Geschäfte von 13:00 bis 17:00 Uhr.Ansprechpartner: Kaufbeuren Marketing, Tel. 08341/437-190Veranstalter: Kaufbeuren Marketing &#8211; StadtmarketingE-Mail-Adresse: tourist-info@kaufbeuren.demehr Infos unter: Für weitere Informationen
PRIORITY:1
CLASS:PUBLIC
BEGIN:VALARM
TRIGGER:-PT10080M
ACTION:DISPLAY
DESCRIPTION:Reminder
END:VALARM
END:VEVENT
END:VCALENDAR
