BEGIN:VCALENDAR
VERSION:2.0
METHOD:PUBLISH
BEGIN:VEVENT
DTSTART:20260513T190000Z
LOCATION:Spitalhof Kaufbeuren
TRANSP: OPAQUE
SEQUENCE:0
UID:
DTSTAMP:20260419T155817Z
SUMMARY:Serenade im Spitalhof
DESCRIPTION:Blasmusik meets Rock! Zuhörerinnen und Zuhörer werden angehalten zu vergessen, was Sie bis dato über klassische Standkonzerte oder verrauchte Rock-Keller wissen. Das Konzert vereint den epischen Druck eines vollen Blasorchesters und die ungezähmte Energie von Hard Rock und 80s Metal.Ansprechpartner: Info: Stadtkapelle Kaufbeuren, Wolfgang FlietelVeranstalter: Stadtkapelle KaufbeurenE-Mail-Adresse: wolfgang.flietel@web.demehr Infos unter: www.stadtkapelle-kaufbeuren.de
PRIORITY:1
CLASS:PUBLIC
BEGIN:VALARM
TRIGGER:-PT10080M
ACTION:DISPLAY
DESCRIPTION:Reminder
END:VALARM
END:VEVENT
END:VCALENDAR
