BEGIN:VCALENDAR
VERSION:2.0
METHOD:PUBLISH
BEGIN:VEVENT
DTSTART:20260516T190000Z
LOCATION:St. Martinskirche Kaufbeuren
TRANSP: OPAQUE
SEQUENCE:0
UID:
DTSTAMP:20260419T155634Z
SUMMARY:Internationaler Orgelsommer
DESCRIPTION:Internationaler Orgelsommer mit Prof. Vincent Dubois Titularorganist an Notre Dame, Paris und Prof. für Orgel an der MusikhochschuleAnsprechpartner: Pfarramt St. Martin,Pfarrgasse 18,87600 KaufbeurenVeranstalter: Pfarrei St. Martinmehr Infos unter: www.martinsmusik-kaufbeuren.net
PRIORITY:1
CLASS:PUBLIC
BEGIN:VALARM
TRIGGER:-PT10080M
ACTION:DISPLAY
DESCRIPTION:Reminder
END:VALARM
END:VEVENT
END:VCALENDAR
