BEGIN:VCALENDAR
VERSION:2.0
METHOD:PUBLISH
BEGIN:VEVENT
DTSTART:20260521T150000Z
LOCATION:Altes Rathaus Kaufbeuren
TRANSP: OPAQUE
SEQUENCE:0
UID:
DTSTAMP:20260419T160101Z
SUMMARY:Verleihung der Kaufbeuren-aktiv Medaille
DESCRIPTION:Die Kaufbeuren-aktiv Medaille würdigt jährlich herausragendes ehrenamtliches Engagement in Kaufbeuren. Bürger können Vorschläge einreichen, über die der Stadtrat entscheidet. Verliehen wird die Auszeichnung in Bronze, Silber und Gold.Ansprechpartner: Info: Tayfun Aygün,Tel. 08341/437-388Veranstalter: Stadt Kaufbeuren / Kaufbeuren aktivE-Mail-Adresse: info@kaufbeuren-aktiv.demehr Infos unter: Weitere Informationen
PRIORITY:1
CLASS:PUBLIC
BEGIN:VALARM
TRIGGER:-PT10080M
ACTION:DISPLAY
DESCRIPTION:Reminder
END:VALARM
END:VEVENT
END:VCALENDAR
