BEGIN:VCALENDAR
VERSION:2.0
METHOD:PUBLISH
BEGIN:VEVENT
DTSTART:20260522T200000Z
LOCATION:Stadttheater Kaufbeuren
TRANSP: OPAQUE
SEQUENCE:0
UID:
DTSTAMP:20260419T155525Z
SUMMARY:Horns Up
DESCRIPTION:Horns Up Bigband Jazz seit 40 Jahren. Willkommen zum Jubelkonzert mit einigen der besten Jazzern des Allgäus.40 Jahre Horns Up – Bigband-Jazz aus dem Allgäu Seit 1986 steht Horns Up für erstklassigen Bigband-Jazz aus dem Allgäu. In diesem Jahr feiert die Formation ihr 40-jähriges Bestehen und präsentiert zum Jubiläum ein neues, abwechslungsreiches Programm. Auf dem Plan stehen Klassiker der großen Bigband-Literatur ebenso wie moderne Arrangements unter anderem von Komponisten wie Pat Metheny, Snarky Puppy und Rainer Tempel. In vier Jahrzehnten hat sich Horns Up musikalisch kontinuierlich weiterentwickelt – frisch, ambitioniert und stilistisch vielseitig. Gleich geblieben ist das Motto der Band: [&hellip;]
PRIORITY:1
CLASS:PUBLIC
BEGIN:VALARM
TRIGGER:-PT10080M
ACTION:DISPLAY
DESCRIPTION:Reminder
END:VALARM
END:VEVENT
END:VCALENDAR
