BEGIN:VCALENDAR
VERSION:2.0
METHOD:PUBLISH
BEGIN:VEVENT
DTSTART:20260529T200000Z
LOCATION:Kellerbühne PODIUM Kaufbeuren
TRANSP: OPAQUE
SEQUENCE:0
UID:
DTSTAMP:20260419T155649Z
SUMMARY:Birgit Süß &#038; Klaus Ratzek an Tuba &#038; Kontrabass
DESCRIPTION:Das neue Solo der Kabarettistin, Kulturpreisträgerin der Stadt Würzburg und Trägerin des Sonderpreises des Deutschen Kabarettpreises. Nach dem wunderbaren Erfolg von &#8222;Das Graue vom Himmel&#8220;, präsentiert Birgit Süß nun ihr neues Musikkabarett auf den Bühnen dieser Welt: &#8222;Die kleinen Dinge&#8220;Ein Programm, das ganz groß von den kleinen Momenten des Lebens erzählt: ein rasanter, berührender und urkomischer Parcours durch wahre Absurditäten und absurde Wahrheiten auf der Suche nach dem achtsamen Sein zwischen Ayurveda-Kur und Apothekenrundschau &#8211; Feminin, frech und furchtlos. Während alle anderen immer noch die Welt erobern und um die beste Liege am Pool kämpfen, hat Birgit Süß sich längst [&hellip;]
PRIORITY:1
CLASS:PUBLIC
BEGIN:VALARM
TRIGGER:-PT10080M
ACTION:DISPLAY
DESCRIPTION:Reminder
END:VALARM
END:VEVENT
END:VCALENDAR
