BEGIN:VCALENDAR
VERSION:2.0
METHOD:PUBLISH
BEGIN:VEVENT
DTSTART:20260528T193000Z
LOCATION:Thalia Kaufbeuren
TRANSP: OPAQUE
SEQUENCE:0
UID:
DTSTAMP:20260419T155634Z
SUMMARY:Franz Xaver Gernstl liest aus &#8222;Glück gehabt&#8220;
DESCRIPTION:&#8222;Gernstl unterwegs&#8220; &#8211; an der Donau, zum Matterhorn, von Sylt zur Elbe, von den Dolomiten zum Gardasee, nach Jesolo, Holland, Irland, Los Angeles! 42 Jahre reiste Franz Xaver Gernstl in seiner BR Kultserie&#8220;Gernstl unterwegs&#8220; kreuz und quer durch Deutschland, Europa und die Welt.Ansprechpartner: Simone PageVeranstalter: Thalia KaufbeurenE-Mail-Adresse: thalia.kaufbeuren@thalia.demehr Infos unter: www.Thalia.de
PRIORITY:1
CLASS:PUBLIC
BEGIN:VALARM
TRIGGER:-PT10080M
ACTION:DISPLAY
DESCRIPTION:Reminder
END:VALARM
END:VEVENT
END:VCALENDAR
