BEGIN:VCALENDAR
VERSION:2.0
METHOD:PUBLISH
BEGIN:VEVENT
DTSTART:20260501T103000Z
LOCATION:vor dem Thaler Festsaal Thalkirchdorf
TRANSP: OPAQUE
SEQUENCE:0
UID:
DTSTAMP:20260419T160802Z
SUMMARY:43. Maibaumaufstellen 2026
DESCRIPTION:Maibaumaufstellung durch den Heimatverein und der Freiwilligen Feuerwehr Thalkirchdorf. Anschließendes Frühschoppenkonzert der Musikkapelle Thalkirchdorf mit Verlosung des Maibaumes und verschiedener Sachpreise um 11:45 Uhr im Thaler Festsaal.Für das leibliche Wohl ist gesorgt.Beim schönem Wetter findet alles um den Maibaum statt.Auf Euer Kommen freuen sich die Musikkapelle-, Freiwillige Feuerwehr &#8211; und der Heimatverein Thalkirchdorf e. V.!
PRIORITY:1
CLASS:PUBLIC
BEGIN:VALARM
TRIGGER:-PT10080M
ACTION:DISPLAY
DESCRIPTION:Reminder
END:VALARM
END:VEVENT
END:VCALENDAR
