BEGIN:VCALENDAR
VERSION:2.0
METHOD:PUBLISH
BEGIN:VEVENT
DTSTART:20260524T150000Z
LOCATION:TeleData-Stadion am Lindenhof Weingarten
TRANSP: OPAQUE
SEQUENCE:0
UID:
DTSTAMP:20260422T030021Z
SUMMARY:Heimspiel: ifm Razorbacks vs. Allgäu Comets
DESCRIPTION:Erlebt packenden American Football in Oberschwaben: Die ifm Razorbacks treffen auf die Allgäu Comets! Seid live dabei, wenn der Ball zum Kick-off um 15 Uhr fliegt. Einlass ist bereits ab 13 Uhr – euch erwartet ein tolles Rahmenprogramm für die ganze Familie. Stimmung, Spannung und Sport auf Top-Niveau – das dürft ihr nicht verpassen!Erwachsene Sitzplatz: 16 € – Erwachsene Stehplatz: 12,50 € – Kinder (0 &#8211; 14 Jahre) Sitzplatz: 10 € – Kinder (0 &#8211; 14 Jahre) Stehplatz: Kostenlos – Ermäßigt (Schüler, Studenten, FSJ, Rentner, Behinderte) Stehplatz : 8 €Hier gehts zum Kartenvorverkauf
PRIORITY:1
CLASS:PUBLIC
BEGIN:VALARM
TRIGGER:-PT10080M
ACTION:DISPLAY
DESCRIPTION:Reminder
END:VALARM
END:VEVENT
END:VCALENDAR
