BEGIN:VCALENDAR
VERSION:2.0
METHOD:PUBLISH
BEGIN:VEVENT
DTSTART:20260501T120000Z
LOCATION:Wiese zwischen Kaplaneihaus und Grabenstraße beim Schachfeld
TRANSP: OPAQUE
SEQUENCE:0
UID:
DTSTAMP:20260421T112358Z
SUMMARY:RockHock mit der Sofaband und Shokee &#038; Sands
DESCRIPTION:Der Treff für alle Musikfans am 1. Mai
PRIORITY:1
CLASS:PUBLIC
BEGIN:VALARM
TRIGGER:-PT10080M
ACTION:DISPLAY
DESCRIPTION:Reminder
END:VALARM
END:VEVENT
END:VCALENDAR
