BEGIN:VCALENDAR
VERSION:2.0
METHOD:PUBLISH
BEGIN:VEVENT
DTSTART:20260503T160000Z
LOCATION:Kirche St. Verena Rot an der Rot
TRANSP: OPAQUE
SEQUENCE:0
UID:
DTSTAMP:20260421T141721Z
SUMMARY:Klang-Welt
DESCRIPTION:Informationen dazu auf dem Flyer
PRIORITY:1
CLASS:PUBLIC
BEGIN:VALARM
TRIGGER:-PT10080M
ACTION:DISPLAY
DESCRIPTION:Reminder
END:VALARM
END:VEVENT
END:VCALENDAR
