BEGIN:VCALENDAR
VERSION:2.0
METHOD:PUBLISH
BEGIN:VEVENT
DTSTART:20260510T140200Z
LOCATION:Reutlingendorf
TRANSP: OPAQUE
SEQUENCE:0
UID:
DTSTAMP:20260421T194254Z
SUMMARY:57. Frühlingsfest Reutlingendorf
DESCRIPTION:Bereits zum 57. Mal wird im Festzelt in Reutlingendorf das Frühlingsfest des Musikvereins „Frohsinn“ gefeiert. Und das dauert dieses Jahr von Samstag, 09. Mai, bis Donnerstag, 14. Mai. Wie in den Vorjahren wird den Besuchern wieder eine bunte Mischung aus Party und Blasmusik geboten.
PRIORITY:1
CLASS:PUBLIC
BEGIN:VALARM
TRIGGER:-PT10080M
ACTION:DISPLAY
DESCRIPTION:Reminder
END:VALARM
END:VEVENT
END:VCALENDAR
