BEGIN:VCALENDAR
VERSION:2.0
METHOD:PUBLISH
BEGIN:VEVENT
DTSTART:20260502T110000Z
LOCATION:Sing- und Musikschule (Kreuzherrnsaal) Memmingen
TRANSP: OPAQUE
SEQUENCE:0
UID:
DTSTAMP:20260421T125315Z
SUMMARY:Musik zur Marktzeit
DESCRIPTION:Erstes Konzert nach der Winterpause!Auch in diesem Jahr veranstaltet die Städtische Musikschule ihre Konzertreihe „Musik zur Marktzeit“ im schönen Kreuzherrnsaal. Von Mai bis Oktober sind alle Musikbegeisterten wieder eingeladen von 11 Uhr bis ca. 12 Uhr unterschiedliche Aufführungen zu besuchen. Die Bandbreite ist groß. Manche Lehrkräfte präsentieren mit ihren Schüler*innen ein buntes Programm in einem Schülervorspiel, andere Lehrkräfte musizieren solo.Ganz ungezwungen lauscht man im schönen Kreuzherrnsaal der Musik zum Wochenende.Wir freuen uns auf Ihr Kommen!Eintritt:frei
PRIORITY:1
CLASS:PUBLIC
BEGIN:VALARM
TRIGGER:-PT10080M
ACTION:DISPLAY
DESCRIPTION:Reminder
END:VALARM
END:VEVENT
END:VCALENDAR
