BEGIN:VCALENDAR
VERSION:2.0
METHOD:PUBLISH
BEGIN:VEVENT
DTSTART:20260503T160000Z
LOCATION:Landestheater Schwaben
TRANSP: OPAQUE
SEQUENCE:0
UID:
DTSTAMP:20260420T022516Z
SUMMARY:Hildegard Knef – Der Teufel und die Diva
DESCRIPTION:Bühnenshow von Fred Breinersdorfer und Katja Röder mit Musik von Hildegard Knef.Der freundliche Mephisto, der sie über ihr Ableben genauer informiert, versucht sogleich, sie zu einem Pakt zu überreden, doch die Diva wehrt sich. Den bohrenden Fragen zu wenig schmeichelhaften Geschichten, die dieser Teufel nun gnadenlos stellt, versucht der deutsche Weltstar mit Charme zu begegnen.Im Spannungsfeld aus Liebe und Bewunderung auf der einen Seite, Angriff, Verlust und Rechtfertigungszwang auf der anderen, wird Hildegard Knef als widersprüchlicher und facettenreicher Charakter mit ihren Liedern lebendig.Die Knef — geliebt, bewundert, angefeindet. Bereits zu Lebzeiten war sie eine Legende und sie arbeitete hartnäckig an [&hellip;]
PRIORITY:1
CLASS:PUBLIC
BEGIN:VALARM
TRIGGER:-PT10080M
ACTION:DISPLAY
DESCRIPTION:Reminder
END:VALARM
END:VEVENT
END:VCALENDAR
