BEGIN:VCALENDAR
VERSION:2.0
METHOD:PUBLISH
BEGIN:VEVENT
DTSTART:20260505T193000Z
LOCATION:Landestheater Schwaben
TRANSP: OPAQUE
SEQUENCE:0
UID:
DTSTAMP:20260420T023247Z
SUMMARY:Lehman Brothers.
DESCRIPTION:Aufstieg und Fall einer Dynastie(Lehman Trilogy • I Capitoli del Crollo)von Stefano MassiniLehman Brothers — kein Name ist so sehr Inbegriff der Weltfinanzkrise 2008 wie der der drei mittellosen Brüder Hayum, Mendel und Maier Lehmann, die in den 1840er Jahren aus Bayern nach Alabama in den USA emigrieren und dort aus einem winzigen Baumwollladen ein Finanzimperium machen.Von der Erfindung der Blue Jeans über das Abenteuer der Eisenbahn, die Finanzierung mehrerer Kriege bis zur Geburt der Wall Street und ihrer Entfesselung: Über mehr als 150 Jahre, über drei Lehman-Generationen erzählt das eindrucks- volle Familienepos die unglaubliche Erfolgsgeschichte, die zum Alptraum wird.Drei [&hellip;]
PRIORITY:1
CLASS:PUBLIC
BEGIN:VALARM
TRIGGER:-PT10080M
ACTION:DISPLAY
DESCRIPTION:Reminder
END:VALARM
END:VEVENT
END:VCALENDAR
