BEGIN:VCALENDAR
VERSION:2.0
METHOD:PUBLISH
BEGIN:VEVENT
DTSTART:20260502T120000Z
LOCATION:Wengen
TRANSP: OPAQUE
SEQUENCE:0
UID:
DTSTAMP:20260420T022557Z
SUMMARY:Gewerbeschau Wengen
DESCRIPTION:Abwechslungsreiche Gewerbeschau in Wengen mit regionalen Ausstellern aus Handel, Handwerk und Gewerbe mit spannenden Vorführungen und einem bunten Rahmenprogramm für die ganze Familie. Für Kinder gibt es ein vielfältige Aktionen mit Spiel, Spaß und Kreativangeboten.Auch kulinarisch ist einiges geboten: Von herzhaften Klassikern bis zu vegetarischen und süßen Spezialitäten sowie einer großen Getränkeauswahl ist bestens für Ihr leibliches Wohl gesorgt. Entdecken, genießen und mitmachen – hier ist für jeden etwas geboten!2. Mai von 12 – 18 Uhr, abends Partyabend ab 20 Uhr bei Reichart Holzbautechnik3. Mai von 10 – 17 Uhr, inkl. Frühschoppen und Maibaumaufstellen ab 10 UhrProgramminfos &amp; HinweiseParkpätze sind [&hellip;]
PRIORITY:1
CLASS:PUBLIC
BEGIN:VALARM
TRIGGER:-PT10080M
ACTION:DISPLAY
DESCRIPTION:Reminder
END:VALARM
END:VEVENT
END:VCALENDAR
