BEGIN:VCALENDAR
VERSION:2.0
METHOD:PUBLISH
BEGIN:VEVENT
DTSTART:20260712T143400Z
LOCATION:Innenstadt Lindau
TRANSP: OPAQUE
SEQUENCE:0
UID:
DTSTAMP:20260420T024250Z
SUMMARY:42. Lindauer Stadtfest &#8211; &#8222;das Original&#8220;
DESCRIPTION:Kaum ist das letzte Stadtfest vorbei, steht schon das nächste Highlight vor der Tür…Das 42. Lindauer Stadtfest ruft!Am 11.07.2026 verwandelt sich die Insel Lindau wieder in einen lebendigen Treffpunkt voller Kunst, Kultur, kulinarischer Highlights und ganz viel Livemusik.Möglich gemacht wird dieses besondere Fest vom Club Vaudeville e.V., zahlreichen Lindauer Vereinen und einer großen Anzahl ehrenamtlicher Helfer*innen – und natürlich von euch, die dieses Fest Jahr für Jahr mit Leben füllen.Also: Termin fett im Kalender markieren!Schnappt euch Freund*innen, Familie und alle, die Lust auf einen unvergesslichen Sommertag haben, und kommt an den Bodensee. Genießt die besondere Atmosphäre, ein kühles Getränk und [&hellip;]
PRIORITY:1
CLASS:PUBLIC
BEGIN:VALARM
TRIGGER:-PT10080M
ACTION:DISPLAY
DESCRIPTION:Reminder
END:VALARM
END:VEVENT
END:VCALENDAR
