BEGIN:VCALENDAR
VERSION:2.0
METHOD:PUBLISH
BEGIN:VEVENT
DTSTART:20260430T190000Z
LOCATION:Feuerwehrhaus Amendingen
TRANSP: OPAQUE
SEQUENCE:0
UID:
DTSTAMP:20260420T022446Z
SUMMARY:Tanz in den Mai &#8211; Bockbierfest
DESCRIPTION:das Beste aus den aktuellen Charts bis hin zu den 80ern.
PRIORITY:1
CLASS:PUBLIC
BEGIN:VALARM
TRIGGER:-PT10080M
ACTION:DISPLAY
DESCRIPTION:Reminder
END:VALARM
END:VEVENT
END:VCALENDAR
