BEGIN:VCALENDAR
VERSION:2.0
METHOD:PUBLISH
BEGIN:VEVENT
DTSTART:20260502T070000Z
LOCATION:Startpunkt: Stadtbrunnen/Reichenstraße Füssen
TRANSP: OPAQUE
SEQUENCE:0
UID:
DTSTAMP:20260420T023324Z
SUMMARY:4. Bavaria Königsmarsch Allgäu
DESCRIPTION:A echte Königstour: 4. Bavaria Königsmarsch Allgäu rund um NeuschwansteinAm 2. Mai 2026 startet in der Altstadt von Füssen um 7.00 Uhr zum vierten Mal der Bavaria Königsmarsch Allgäu, ein Ultrawander-Event zu Füßen von Schloss Neuschwanstein. Immer mit auf dem Weg: der großartige Blick auf die Alpenkulisse. Die 41,3 Kilometer lange Route führt durch das seenreiche Voralpenland, am Weißensee, Alatsee, Schwansee, Alpsee und Forggensee entlang, zum imposanten Lechfall und über den Baumkronenweg an der deutsch-österreichischen Grenze. Die Routenschleife an den Königsschlössern Neuschwanstein und Hohenschwangau vorbei und hinein in die Ammergauer Alpen zum Berggasthaus Bleckenau fordert die Kondition der Teilnehmer mit 400 [&hellip;]
PRIORITY:1
CLASS:PUBLIC
BEGIN:VALARM
TRIGGER:-PT10080M
ACTION:DISPLAY
DESCRIPTION:Reminder
END:VALARM
END:VEVENT
END:VCALENDAR
