BEGIN:VCALENDAR
VERSION:2.0
METHOD:PUBLISH
BEGIN:VEVENT
DTSTART:20260509T210000Z
LOCATION:Kaminwerk
TRANSP: OPAQUE
SEQUENCE:0
UID:
DTSTAMP:20260421T182252Z
SUMMARY:Disco: 80er-90er Party
DESCRIPTION:Wir bringen wieder die geilste Mucke aus zwei total verrückten Jahrzehnten.80er-90er-PartyBeliebteste Party im KaminwerkDas Kaminwerk feiert am Samstag, 09. Mai, wieder eine große „80er-90er Party“. Ab 21 Uhr legt wie immer DJ Matthias Ressler auf, unterstützt von der Tanzschule NaDansja.Es geht wieder zurück in die 80er und die 90er. Warum diese zwei Jahrzehnte bei den Tanzfans so beliebt sind ist klar. In keiner Zeit stand bei der Musik so der Spaß im Vordergrund wie in diesen beiden Dekaden. Das Kaminwerk mischt das Beste aus zwei Jahrzehnten in eine Party mit Songs von Dr. Alban bis Prince, von AC/DC bis Liquido, [&hellip;]
PRIORITY:1
CLASS:PUBLIC
BEGIN:VALARM
TRIGGER:-PT10080M
ACTION:DISPLAY
DESCRIPTION:Reminder
END:VALARM
END:VEVENT
END:VCALENDAR
