BEGIN:VCALENDAR
VERSION:2.0
METHOD:PUBLISH
BEGIN:VEVENT
DTSTART:20260515T193000Z
LOCATION:Kaminwerk
TRANSP: OPAQUE
SEQUENCE:0
UID:
DTSTAMP:20260421T223726Z
SUMMARY:Konzert: Gravestone + Tyrant + Stranger
DESCRIPTION:Clash of the Titans &#8211; wir feiern den New Wave of German Heavy Metal!Clash of the TitansHeavy-Metal-Nostalgie im Kaminwerk mit Gravestone, Tyrant und StrangerAm Freitag, 15. Mai, ab 19.30 Uhr (Einlass 19 Uhr), steht das Kaminwerk Memmingen ganz im Zeichen der New Wave of German Heavy Metal. Unter dem Titel „Clash of the Titans“ treten mit Gravestone, Tyrant und Stranger drei Bands auf, die bereits in den 1980er-Jahren aktiv waren und diese prägende Bewegung des deutschen Heavy Metal mitgestaltet haben.Die New Wave of German Heavy Metal entstand in den 80er-Jahren als eigenständige Szene und brachte eine neue, selbstbewusste Form des [&hellip;]
PRIORITY:1
CLASS:PUBLIC
BEGIN:VALARM
TRIGGER:-PT10080M
ACTION:DISPLAY
DESCRIPTION:Reminder
END:VALARM
END:VEVENT
END:VCALENDAR
