BEGIN:VCALENDAR
VERSION:2.0
METHOD:PUBLISH
BEGIN:VEVENT
DTSTART:20260516T200000Z
LOCATION:Kaminwerk
TRANSP: OPAQUE
SEQUENCE:0
UID:
DTSTAMP:20260421T223803Z
SUMMARY:Theater: zweifellos zu dritt – Improtheater
DESCRIPTION:Das Improtheater „zweifellos“ ist wieder zu Gast im Nebenraum „standby“ und wirbelt mit einer frischen Frühlingsbrise gekonnt über die BühneSpritzige Improvisationen des Improtheaters „zweifellos“Improshow im Kaminwerk mit Gästen aus BurgauVier Improspieler, zwei Mannschaften, ein Siegerpokal – das sind die Eckpfeiler für einen abwechslungsreichen Wettkampf in der spontanen Theaterkunst. am Samstag, 10. Janaur. Der Nebenraum standby des Kaminwerks wird zur Arena, wenn sich die Schauspieler von „zweifellos“ mit der Gastmannschaft „Flotte Lotte“ aus Burgau ein spannendes Duell um die Gunst des Publikums liefern. Wer spielt die ergreifendste, die romantischste oder die tragischste Szene? Überzeugt die geträllerte Arie oder der geschmetterte Schlagersong [&hellip;]
PRIORITY:1
CLASS:PUBLIC
BEGIN:VALARM
TRIGGER:-PT10080M
ACTION:DISPLAY
DESCRIPTION:Reminder
END:VALARM
END:VEVENT
END:VCALENDAR
