BEGIN:VCALENDAR
VERSION:2.0
METHOD:PUBLISH
BEGIN:VEVENT
DTSTART:20260516T210000Z
LOCATION:Kaminwerk
TRANSP: OPAQUE
SEQUENCE:0
UID:
DTSTAMP:20260421T223814Z
SUMMARY:Disco: Noche Latina
DESCRIPTION:DIE Salsaparty im Allgäu mit Carlos CigarroNoche LatinaKaminwerk veranstaltet Salsa-Party mit DJ Carlos CigarroAm Samstag, 16. Mai, lässt das Kaminwerk ab 21 Uhr wieder die Sonne für alle &#8222;Salseras y Salseros&#8220; aufgehen.Mit Latinmusic und tollen Cocktails gibt es Strandatmosphäre im Memminger Süden. Die Salsa Sounds von DJ Carlos Cigarro stehen für sich und können nur sonnige Gemüter erzeugen. Die Tanzfläche ist bei der Noche voll und die Cocktails fließen in Strömen. Für alle Tanzfans: Auch wenn die Tanzfläche voll ist, bietet sich genug Platz um auch Figuren zu tanzen!Mehr Infos erhält man unter www.kaminwerk.de.Eintritt AK: 10Einlass: 21:00Beginn: 21:00
PRIORITY:1
CLASS:PUBLIC
BEGIN:VALARM
TRIGGER:-PT10080M
ACTION:DISPLAY
DESCRIPTION:Reminder
END:VALARM
END:VEVENT
END:VCALENDAR
