BEGIN:VCALENDAR
VERSION:2.0
METHOD:PUBLISH
BEGIN:VEVENT
DTSTART:20260522T200000Z
LOCATION:Kaminwerk
TRANSP: OPAQUE
SEQUENCE:0
UID:
DTSTAMP:20260422T013518Z
SUMMARY:Konzert: Siggi Schwarz &#8211; A Tribute to Gary Moore
DESCRIPTION:Siggi huldigt einer Gitarrenlegende &#8211; von &#8222;Over the Hills&#8230;&#8220; bis &#8222;Still got the Blues&#8220;! Wir holen damit den ausgefallenen Termin im November nach.Siggi Schwarz: A Tribute to Gary MooreKaminwerk bietet Blues- und RockmagieAm Freitag, 22. Mai, präsentiert Gitarrenvirtuose Siggi Schwarz sein Programm „A Tribute to Gary Moore“ im Kaminwerk. Ab 20 Uhr (Einlass 19 Uhr) wird die Musik des legendären irischen Gitarristen auf beeindruckende Weise zelebriert.Siggi Schwarz zählt zu den bedeutendsten Gitarristen Deutschlands und hat sich mit seinem Tribute-Programm einem der größten Musiker der Blues- und Rockgeschichte verschrieben. Mit einem einzigartigen Mix aus gefühlvollen Balladen und kraftvollen Rockklassikern wie „Still [&hellip;]
PRIORITY:1
CLASS:PUBLIC
BEGIN:VALARM
TRIGGER:-PT10080M
ACTION:DISPLAY
DESCRIPTION:Reminder
END:VALARM
END:VEVENT
END:VCALENDAR
