BEGIN:VCALENDAR
VERSION:2.0
METHOD:PUBLISH
BEGIN:VEVENT
DTSTART:20260508T160000Z
LOCATION:Stadtpark Neue Welt - Theaterzelt auf dem Festplatz
TRANSP: OPAQUE
SEQUENCE:0
UID:
DTSTAMP:20260421T170012Z
SUMMARY:Der Zug der Dinos &#8211; Das Figurenmusical
DESCRIPTION:Figurenmusical &#8211; für die ganze Familielive gespielt und live gesungen &#8211; empfohlen ab 2 Jahren&nbsp;Deutschland Premiere !‼️ Zum ersten Mal in Memmingen „Der Zug der Dinos“ ‼️Das große Figuren-Musical für die ganze Familie!Begib dich gemeinsam mit Dino Buddy und seinen Freunden auf eine fantastische Reise im Dino-Zug!Freut euch auf eine liebevoll inszenierte, spannende und lehrreiche Geschichte mit beeindruckenden Großfiguren – live gespielt und live gesungen!Eintritt:Tageskasse ab 1 Stunde vor Vorstellungsbeginn (nur Barzahlung möglich)Info-Tel.: +49 157 318 61010Bild: © Kasperle Abenteuer Theater
PRIORITY:1
CLASS:PUBLIC
BEGIN:VALARM
TRIGGER:-PT10080M
ACTION:DISPLAY
DESCRIPTION:Reminder
END:VALARM
END:VEVENT
END:VCALENDAR
