BEGIN:VCALENDAR
VERSION:2.0
METHOD:PUBLISH
BEGIN:VEVENT
DTSTART:20260516T080000Z
LOCATION:Stadtpark Neue Welt - Festplatz
TRANSP: OPAQUE
SEQUENCE:0
UID:
DTSTAMP:20260421T223705Z
SUMMARY:Flohmarkt im Stadtpark Neue Welt
DESCRIPTION:Schnäppchenjagd für alte, gebrauchte und nützliche Dinge&nbsp;Ein Flohmarkt ist ein wunderbares Zusammenspiel aus Spaß, Sparen und originellen Sachen.Der große Memminger Flohmarkt findet wieder auf dem ehemaligen Landesgartenschaugelände im Stadtpark Neue Welt in Memmingen statt.Die Veranstaltung wird sicher wieder zum Treffpunkt für Sammler und Freunde alter und gebrauchter Dinge.Das vielfältige Angebot an großen und kleinen Raritäten gewährleistet, dass man hier vielleicht ein lang gesuchtes Schnäppchen machen kann.Stöbern, Handeln und Gleichgesinnte in einer außergewöhnlichen Umgebung und einmaligen Atmosphäre treffen: Das bietet der Flohmarkt in der Neuen Welt.Der Flohmarkt im Stadtpark Neue Welt, in Memmingen ist der Treffpunkt für Liebhaber alter und gebrauchter [&hellip;]
PRIORITY:1
CLASS:PUBLIC
BEGIN:VALARM
TRIGGER:-PT10080M
ACTION:DISPLAY
DESCRIPTION:Reminder
END:VALARM
END:VEVENT
END:VCALENDAR
