BEGIN:VCALENDAR
VERSION:2.0
METHOD:PUBLISH
BEGIN:VEVENT
DTSTART:20260506T200000Z
LOCATION:PiK Parterretheater im Künerhaus
TRANSP: OPAQUE
SEQUENCE:0
UID:
DTSTAMP:20260421T165821Z
SUMMARY:JAZZ-SESSION
DESCRIPTION:Die Jazz Session bietet eine Gelegenheit für Musiker, vor allem auch für junge Musiker, in einer dynamisch wechselnden Besetzung zu jazzen. Die Session wird damit auch zu einer Plattform für &#8222;Neulinge&#8220; im Jazz, die hier die Möglichkeit haben, mit erfahrenen Musikern zusammenzuspielen. Organisiert wird die Session, von Walter Baur.Wenn Sie Interesse haben, selber mitzuspielen, schauen Sie doch einfach vorbei. Sie sind herzlich dazu eingeladen! Natürlich freuen wir uns genauso auf zahlreiches Publikum.Der Eintritt ist frei!&nbsp;
PRIORITY:1
CLASS:PUBLIC
BEGIN:VALARM
TRIGGER:-PT10080M
ACTION:DISPLAY
DESCRIPTION:Reminder
END:VALARM
END:VEVENT
END:VCALENDAR
