BEGIN:VCALENDAR
VERSION:2.0
METHOD:PUBLISH
BEGIN:VEVENT
DTSTART:20260508T200000Z
LOCATION:PiK Parterretheater im Künerhaus
TRANSP: OPAQUE
SEQUENCE:0
UID:
DTSTAMP:20260421T170011Z
SUMMARY:MATTHIAS BRODOWY „Sachen gibt’s“
DESCRIPTION:Der ganze Scheiß mit den Fakenews begann doch, als die Dinosaurier Adam und Eva auffraßen. In Thonotosassa stellten 115 Ziegen einen Weltrekord im Ziegen-Yoga auf und das stimmt tatsächlich, während es ein Gerücht ist, dass die Würde des Menschen unantastbar sei.Was ist wahr? Was ist unwahr? Und wieviel Bauernschläue braucht der Mensch, um sich selbst nach ganz oben zu faken.Matthias Brodowy, ein Meister verbaler Komik und ausgezeichnet u.a. mit dem Prix Pantheon und dem Deutschen Kleinkunstpreis, präsentiert sein neues Programm wie immer politisch, philosophisch, nachdenklich, musikalisch und auf hohem Niveau.Eintritt: € 25,-
PRIORITY:1
CLASS:PUBLIC
BEGIN:VALARM
TRIGGER:-PT10080M
ACTION:DISPLAY
DESCRIPTION:Reminder
END:VALARM
END:VEVENT
END:VCALENDAR
