BEGIN:VCALENDAR
VERSION:2.0
METHOD:PUBLISH
BEGIN:VEVENT
DTSTART:20260515T200000Z
LOCATION:PiK Parterretheater im Künerhaus
TRANSP: OPAQUE
SEQUENCE:0
UID:
DTSTAMP:20260421T223726Z
SUMMARY:Folk Session
DESCRIPTION:Die Folk Session folgt dem Konzept der Jazz Session und setzt auf wechselnde Musiker und Bands aus der näheren Umgebung. Die Musik konzentriert sich auf Folk in allen möglichen Varianten. Organisiert wird die Session von dem Australier Rick Stephens, der selbst oft mit anderen Musikern auf der Bühne steht.Kommen Sie vorbei und genießen Sie die ungezwungene Atmosphäre im PiK.Der Eintritt ist frei.&nbsp;
PRIORITY:1
CLASS:PUBLIC
BEGIN:VALARM
TRIGGER:-PT10080M
ACTION:DISPLAY
DESCRIPTION:Reminder
END:VALARM
END:VEVENT
END:VCALENDAR
