BEGIN:VCALENDAR
VERSION:2.0
METHOD:PUBLISH
BEGIN:VEVENT
DTSTART:20260508T200000Z
LOCATION:Antonierhaus Memmingen
TRANSP: OPAQUE
SEQUENCE:0
UID:
DTSTAMP:20260421T165939Z
SUMMARY:Helmfried von Lüttichau &#8222;Weil`s raus muss &#8211; Das 2. Programm&#8220; Allgäu-Premiere
DESCRIPTION:Nach über 200 Shows in Deutschland und Österreich mit „plugged“, dem ersten Soloprogramm von Helmfried von Lüttichau (das sogar dem Kollegen Hubsi – also seinem Freund Christian Tramitz gefällt), geht „Weil’s raus muss – Das zweite Programm“ an den Start. Helmfried von Lüttichau zaubert Humor und Leichtigkeit auf die Bühne, geerdet mit Lebenserfahrung und dem Erfahrungsschatz von vier Jahren on tour. Und das in seiner gewohnten Art – persönlich, sympathisch und echt!Endlich, das zweite Programm! Tausend neue Ideen, Gedanken und Melodien schwirren dem Ü60-Newcomer in seinem Kopf herum! Nur blöd: Das zweite Programm ist bekanntlich das Schwerste. Fürs erste hast [&hellip;]
PRIORITY:1
CLASS:PUBLIC
BEGIN:VALARM
TRIGGER:-PT10080M
ACTION:DISPLAY
DESCRIPTION:Reminder
END:VALARM
END:VEVENT
END:VCALENDAR
