BEGIN:VCALENDAR
VERSION:2.0
METHOD:PUBLISH
BEGIN:VEVENT
DTSTART:20260506T193000Z
LOCATION:Landestheater Schwaben
TRANSP: OPAQUE
SEQUENCE:0
UID:
DTSTAMP:20260422T034431Z
SUMMARY:Braunschlag
DESCRIPTION:von Stefan Vögel(Heimat-) Satire nach der Fernsehserie von David Schalko&nbsp;Ein Wunder muss geschehen und zwar dringend! Bürgermeister Gerri Tschach hat seine Gemeinde Braunschlag in den finanziellen Ruin getrieben und da muss eben schnell eine Marienerscheinung her, um Geld in die klammen Kassen zu spülen. Die zahlungskräftigen Pilger, die jetzt endlich in Scharen kommen, überfordern die örtliche Polizei, der hiesige Tierpräparator spürt die nahende Ankunft von Außerirdischen und die Madonna muss fortan für allerlei Wunder herhalten, die eigentlich keine sind, auch in Sachen Liebe. Bittersüße Komik im Panoptikum der schrägen Dorfgestalten!&nbsp;
PRIORITY:1
CLASS:PUBLIC
BEGIN:VALARM
TRIGGER:-PT10080M
ACTION:DISPLAY
DESCRIPTION:Reminder
END:VALARM
END:VEVENT
END:VCALENDAR
